BEGIN:VCALENDAR
VERSION:2.0
PRODID:-//eventon.com NONSGML v1.0//EN
CALSCALE:GREGORIAN
METHOD:PUBLISH
BEGIN:VEVENT
UID:69e88c03a9105
DTSTAMP:20260422T085115Z
DTSTART:20251202T230000Z
DTEND:20251203T003000Z
LOCATION:
SUMMARY:BADJ Project Ad Hoc Workgroup
DESCRIPTION:The BADJ Project Ad Hoc workgroup is currently focused on the B
 uilding Allyship and Diversity in Jeffco (BADJ) project. The BADJ project i
 s based on “Out for Safe Schools\, ” a national initiative run by the L
 A LGBT Center\,  that supports adults who work with youth so they can be vi
 sibly[..]\nhttps://jeffcoctc.care/events1/out-for-safe-spaces-workgroup/
URL:https://jeffcoctc.care/events1/out-for-safe-spaces-workgroup/
END:VEVENT
END:VCALENDAR